BEGIN:VCALENDAR
VERSION:2.0
PRODID:-//House of Lazarus - ECPv6.15.20//NONSGML v1.0//EN
CALSCALE:GREGORIAN
METHOD:PUBLISH
X-WR-CALNAME:House of Lazarus
X-ORIGINAL-URL:https://hol.community
X-WR-CALDESC:Events for House of Lazarus
REFRESH-INTERVAL;VALUE=DURATION:PT1H
X-Robots-Tag:noindex
X-PUBLISHED-TTL:PT1H
BEGIN:VTIMEZONE
TZID:America/Toronto
BEGIN:DAYLIGHT
TZOFFSETFROM:-0500
TZOFFSETTO:-0400
TZNAME:EDT
DTSTART:20250309T070000
END:DAYLIGHT
BEGIN:STANDARD
TZOFFSETFROM:-0400
TZOFFSETTO:-0500
TZNAME:EST
DTSTART:20251102T060000
END:STANDARD
BEGIN:DAYLIGHT
TZOFFSETFROM:-0500
TZOFFSETTO:-0400
TZNAME:EDT
DTSTART:20260308T070000
END:DAYLIGHT
BEGIN:STANDARD
TZOFFSETFROM:-0400
TZOFFSETTO:-0500
TZNAME:EST
DTSTART:20261101T060000
END:STANDARD
BEGIN:DAYLIGHT
TZOFFSETFROM:-0500
TZOFFSETTO:-0400
TZNAME:EDT
DTSTART:20270314T070000
END:DAYLIGHT
BEGIN:STANDARD
TZOFFSETFROM:-0400
TZOFFSETTO:-0500
TZNAME:EST
DTSTART:20271107T060000
END:STANDARD
END:VTIMEZONE
BEGIN:VEVENT
DTSTART;VALUE=DATE:20260428
DTEND;VALUE=DATE:20260429
DTSTAMP:20260420T224755
CREATED:20260325T184410Z
LAST-MODIFIED:20260325T184410Z
UID:4146-1777334400-1777420799@hol.community
SUMMARY:North Dundas Green Food Box Pickup
DESCRIPTION:House of Lazarus provides two opportunities every month for ordering the Green Food Box. The program provides community members the opportunity to get fresh produce at a wholesale price. There are no limits to how many bags a person orders and they may use both North and South Dundas service; the Green Food Box program is open to everyone. The program offers participants the opportunity to select their own produce from a list of options that is updated on a monthly basis. Check out our Programs page under the Green Food Box tab to learn more about the Green Food Box Program. \nNorth Dundas Order Form- April
URL:https://hol.community/event/north-dundas-green-food-box-pickup-2-4/
LOCATION:Ontario
END:VEVENT
BEGIN:VEVENT
DTSTART;TZID=America/Toronto:20260428T090000
DTEND;TZID=America/Toronto:20260428T160000
DTSTAMP:20260420T224755
CREATED:20260325T194527Z
LAST-MODIFIED:20260325T194527Z
UID:4177-1777366800-1777392000@hol.community
SUMMARY:Kemptville Hub Open
DESCRIPTION:Our Kemptville Community Hub is a safe\, welcoming space where community members can access the help they need. Our hub is a drop-in centre that is open to everyone. \nWe can offer: \n\nForm assistance (help filling in government forms and applications)\nInformation and referrals (we answer questions and connect you to partner agencies)\nFinancial support (access programs and community supports for financial help)\n\nLocation: St. John’s United Church (400 Prescott Street\, Kemptville)
URL:https://hol.community/event/kemptville-hub-open-12/
LOCATION:Ontario
END:VEVENT
BEGIN:VEVENT
DTSTART;TZID=America/Toronto:20260428T100000
DTEND;TZID=America/Toronto:20260428T120000
DTSTAMP:20260420T224755
CREATED:20260327T131636Z
LAST-MODIFIED:20260327T131636Z
UID:4206-1777370400-1777377600@hol.community
SUMMARY:Coffee with Friends
DESCRIPTION:Come join us for coffee and a snack with new and old friends! \nLocation: Morrisburg Community Hub (22 High Street\, Morrisburg)
URL:https://hol.community/event/coffee-with-friends-34-13/
LOCATION:Ontario
END:VEVENT
BEGIN:VEVENT
DTSTART;TZID=America/Toronto:20260429T083000
DTEND;TZID=America/Toronto:20260429T100000
DTSTAMP:20260420T224755
CREATED:20260325T193111Z
LAST-MODIFIED:20260325T193111Z
UID:4169-1777451400-1777456800@hol.community
SUMMARY:Drop-In Breakfast- Winchester
DESCRIPTION:HOL has a free\, weekly morning drop-in breakfast in Winchester every Wednesday. This breakfast is open to everyone and it includes a free breakfast\, as well as an opportunity to socialize and participate in fun activities. These breakfasts are welcoming and inclusive! \nLocation: Winchester United Church (519 St Lawrence Street\, Winchester)
URL:https://hol.community/event/drop-in-breakfast-winchester-13/
LOCATION:Ontario
END:VEVENT
BEGIN:VEVENT
DTSTART;TZID=America/Toronto:20260430T090000
DTEND;TZID=America/Toronto:20260430T153000
DTSTAMP:20260420T224755
CREATED:20260325T195544Z
LAST-MODIFIED:20260325T195544Z
UID:4183-1777539600-1777563000@hol.community
SUMMARY:United Way
DESCRIPTION:Assistance with Ontario Electricity Support Program application (OESP) \nLocation: Morrisburg Community Hub (22 High Street\, Morrisburg)
URL:https://hol.community/event/united-way-5-3/
LOCATION:Ontario
END:VEVENT
BEGIN:VEVENT
DTSTART;TZID=America/Toronto:20260430T160000
DTEND;TZID=America/Toronto:20260430T190000
DTSTAMP:20260420T224755
CREATED:20260327T131329Z
LAST-MODIFIED:20260327T132358Z
UID:4198-1777564800-1777575600@hol.community
SUMMARY:Dinner on the House
DESCRIPTION:Dinner on the House is a free\, weekly community meal that everyone is welcome to! It is intended to provide a weekly opportunity for families and individuals to enjoy a free meal\, as well as to bring together the community in a social setting. Dinner on the House occurs every Thursday evening from 4pm to 7pm at the Winchester United Church (519 St. Lawrence Street\, Winchester). Come join us! \nApril 30th Menu: Pizza\, tossed salad\, and rice & bean salad
URL:https://hol.community/event/dinner-on-the-house-2-50/
LOCATION:Ontario
END:VEVENT
BEGIN:VEVENT
DTSTART;VALUE=DATE:20260504
DTEND;VALUE=DATE:20260505
DTSTAMP:20260420T224755
CREATED:20260420T135837Z
LAST-MODIFIED:20260420T135837Z
UID:4255-1777852800-1777939199@hol.community
SUMMARY:Lunch & Learn
DESCRIPTION:
URL:https://hol.community/event/lunch-learn-3-2/
LOCATION:Ontario
END:VEVENT
BEGIN:VEVENT
DTSTART;VALUE=DATE:20260509
DTEND;VALUE=DATE:20260510
DTSTAMP:20260420T224755
CREATED:20260415T134312Z
LAST-MODIFIED:20260415T134312Z
UID:4242-1778284800-1778371199@hol.community
SUMMARY:Talent in the House
DESCRIPTION:
URL:https://hol.community/event/talent-in-the-house-2/
LOCATION:Ontario
END:VEVENT
BEGIN:VEVENT
DTSTART;TZID=America/Toronto:20260531T093000
DTEND;TZID=America/Toronto:20260531T223000
DTSTAMP:20260420T224755
CREATED:20260207T090012Z
LAST-MODIFIED:20260207T090012Z
UID:3843-1780219800-1780266600@hol.community
SUMMARY:Bucket List Bus Tour
DESCRIPTION:The Bucket List Bus Tour will be going to Montreal for the day! The tour costs $380 per person and includes transportation\, entrance to the Montreal Biodome\, a Steakhouse 3-course meal (with 3 options available) for lunch\, and tickets to Cirque de Soleil Echo. Tickets must be purchased before April 29th\, and you can purchase tickets through Karen Parker by phone at 613-448-2152. The proceeds of this event will go towards HOL’s Operation Backpack program. Everyone is welcome! \nMeet: 9:30AM at the Chesterville Arena \nReturn: 10:30PM at the Chesterville Arena
URL:https://hol.community/event/bucket-list-bus-tour/
LOCATION:Ontario
END:VEVENT
END:VCALENDAR