BEGIN:VCALENDAR
VERSION:2.0
PRODID:-//House of Lazarus - ECPv6.15.20//NONSGML v1.0//EN
CALSCALE:GREGORIAN
METHOD:PUBLISH
X-WR-CALNAME:House of Lazarus
X-ORIGINAL-URL:https://hol.community
X-WR-CALDESC:Events for House of Lazarus
REFRESH-INTERVAL;VALUE=DURATION:PT1H
X-Robots-Tag:noindex
X-PUBLISHED-TTL:PT1H
BEGIN:VTIMEZONE
TZID:America/Toronto
BEGIN:DAYLIGHT
TZOFFSETFROM:-0500
TZOFFSETTO:-0400
TZNAME:EDT
DTSTART:20250309T070000
END:DAYLIGHT
BEGIN:STANDARD
TZOFFSETFROM:-0400
TZOFFSETTO:-0500
TZNAME:EST
DTSTART:20251102T060000
END:STANDARD
BEGIN:DAYLIGHT
TZOFFSETFROM:-0500
TZOFFSETTO:-0400
TZNAME:EDT
DTSTART:20260308T070000
END:DAYLIGHT
BEGIN:STANDARD
TZOFFSETFROM:-0400
TZOFFSETTO:-0500
TZNAME:EST
DTSTART:20261101T060000
END:STANDARD
BEGIN:DAYLIGHT
TZOFFSETFROM:-0500
TZOFFSETTO:-0400
TZNAME:EDT
DTSTART:20270314T070000
END:DAYLIGHT
BEGIN:STANDARD
TZOFFSETFROM:-0400
TZOFFSETTO:-0500
TZNAME:EST
DTSTART:20271107T060000
END:STANDARD
END:VTIMEZONE
BEGIN:VEVENT
DTSTART;VALUE=DATE:20260324
DTEND;VALUE=DATE:20260325
DTSTAMP:20260421T113921
CREATED:20260226T203700Z
LAST-MODIFIED:20260226T203700Z
UID:4027-1774310400-1774396799@hol.community
SUMMARY:North Dundas Green Food Box Pickup
DESCRIPTION:House of Lazarus provides two opportunities every month for ordering the Green Food Box. The program provides community members the opportunity to get fresh produce at a wholesale price. There are no limits to how many bags a person orders and they may use both North and South Dundas service; the Green Food Box program is open to everyone. The program offers participants the opportunity to select their own produce from a list of options that is updated on a monthly basis. Check out our Programs page under the Green Food Box tab to learn more about the Green Food Box Program. \nNorth Dundas Order Form- March
URL:https://hol.community/event/north-dundas-green-food-box-pickup-2-3/
END:VEVENT
BEGIN:VEVENT
DTSTART;TZID=America/Toronto:20260324T090000
DTEND;TZID=America/Toronto:20260324T160000
DTSTAMP:20260421T113921
CREATED:20260226T205541Z
LAST-MODIFIED:20260226T205541Z
UID:4056-1774342800-1774368000@hol.community
SUMMARY:Kemptville Hub Open
DESCRIPTION:Our Kemptville Community Hub is a safe\, welcoming space where community members can access the help they need. Our hub is a drop-in centre that is open to everyone. \nWe can offer: \n\nForm assistance (help filling in government forms and applications)\nInformation and referrals (we answer questions and connect you to partner agencies)\nFinancial support (access programs and community supports for financial help)\n\nLocation: St. John’s United Church (400 Prescott Street\, Kemptville)
URL:https://hol.community/event/kemptville-hub-open-7/
END:VEVENT
BEGIN:VEVENT
DTSTART;TZID=America/Toronto:20260324T100000
DTEND;TZID=America/Toronto:20260324T120000
DTSTAMP:20260421T113921
CREATED:20260226T204224Z
LAST-MODIFIED:20260226T204224Z
UID:4038-1774346400-1774353600@hol.community
SUMMARY:Coffee with Friends
DESCRIPTION:Come join us for coffee and a snack with new and old friends! \nLocation: Morrisburg Community Hub (22 High Street\, Morrisburg)
URL:https://hol.community/event/coffee-with-friends-34-8/
END:VEVENT
END:VCALENDAR