BEGIN:VCALENDAR
VERSION:2.0
PRODID:-//House of Lazarus - ECPv6.15.20//NONSGML v1.0//EN
CALSCALE:GREGORIAN
METHOD:PUBLISH
X-WR-CALNAME:House of Lazarus
X-ORIGINAL-URL:https://hol.community
X-WR-CALDESC:Events for House of Lazarus
REFRESH-INTERVAL;VALUE=DURATION:PT1H
X-Robots-Tag:noindex
X-PUBLISHED-TTL:PT1H
BEGIN:VTIMEZONE
TZID:America/Toronto
BEGIN:DAYLIGHT
TZOFFSETFROM:-0500
TZOFFSETTO:-0400
TZNAME:EDT
DTSTART:20250309T070000
END:DAYLIGHT
BEGIN:STANDARD
TZOFFSETFROM:-0400
TZOFFSETTO:-0500
TZNAME:EST
DTSTART:20251102T060000
END:STANDARD
BEGIN:DAYLIGHT
TZOFFSETFROM:-0500
TZOFFSETTO:-0400
TZNAME:EDT
DTSTART:20260308T070000
END:DAYLIGHT
BEGIN:STANDARD
TZOFFSETFROM:-0400
TZOFFSETTO:-0500
TZNAME:EST
DTSTART:20261101T060000
END:STANDARD
BEGIN:DAYLIGHT
TZOFFSETFROM:-0500
TZOFFSETTO:-0400
TZNAME:EDT
DTSTART:20270314T070000
END:DAYLIGHT
BEGIN:STANDARD
TZOFFSETFROM:-0400
TZOFFSETTO:-0500
TZNAME:EST
DTSTART:20271107T060000
END:STANDARD
END:VTIMEZONE
BEGIN:VEVENT
DTSTART;TZID=America/Toronto:20260317T090000
DTEND;TZID=America/Toronto:20260317T160000
DTSTAMP:20260421T113855
CREATED:20260226T205454Z
LAST-MODIFIED:20260226T205454Z
UID:4054-1773738000-1773763200@hol.community
SUMMARY:Kemptville Hub Open
DESCRIPTION:Our Kemptville Community Hub is a safe\, welcoming space where community members can access the help they need. Our hub is a drop-in centre that is open to everyone. \nWe can offer: \n\nForm assistance (help filling in government forms and applications)\nInformation and referrals (we answer questions and connect you to partner agencies)\nFinancial support (access programs and community supports for financial help)\n\nLocation: St. John’s United Church (400 Prescott Street\, Kemptville)
URL:https://hol.community/event/kemptville-hub-open-6/
END:VEVENT
BEGIN:VEVENT
DTSTART;TZID=America/Toronto:20260317T093000
DTEND;TZID=America/Toronto:20260317T150000
DTSTAMP:20260421T113855
CREATED:20260226T203311Z
LAST-MODIFIED:20260226T203311Z
UID:4023-1773739800-1773759600@hol.community
SUMMARY:Service Canada Clinic- Morrisburg
DESCRIPTION:Assistance with Employment Insurance\, Canada Pension Plan\, Old age Security and Guaranteed Income Supplement\, and much more! Drop by to ask any questions and have your Service Canada services handled locally! \nLocation: Morrisburg Community Hub (22 High Street\, Morrisburg)
URL:https://hol.community/event/service-canada-clinic-morrisburg/
END:VEVENT
BEGIN:VEVENT
DTSTART;TZID=America/Toronto:20260317T100000
DTEND;TZID=America/Toronto:20260317T120000
DTSTAMP:20260421T113855
CREATED:20260226T204127Z
LAST-MODIFIED:20260226T204127Z
UID:4036-1773741600-1773748800@hol.community
SUMMARY:Coffee with Friends
DESCRIPTION:Come join us for coffee and a snack with new and old friends! \nLocation: Morrisburg Community Hub (22 High Street\, Morrisburg)
URL:https://hol.community/event/coffee-with-friends-34-7/
END:VEVENT
END:VCALENDAR