BEGIN:VCALENDAR
VERSION:2.0
PRODID:-//House of Lazarus - ECPv6.15.20//NONSGML v1.0//EN
CALSCALE:GREGORIAN
METHOD:PUBLISH
X-ORIGINAL-URL:https://hol.community
X-WR-CALDESC:Events for House of Lazarus
REFRESH-INTERVAL;VALUE=DURATION:PT1H
X-Robots-Tag:noindex
X-PUBLISHED-TTL:PT1H
BEGIN:VTIMEZONE
TZID:America/Toronto
BEGIN:DAYLIGHT
TZOFFSETFROM:-0500
TZOFFSETTO:-0400
TZNAME:EDT
DTSTART:20250309T070000
END:DAYLIGHT
BEGIN:STANDARD
TZOFFSETFROM:-0400
TZOFFSETTO:-0500
TZNAME:EST
DTSTART:20251102T060000
END:STANDARD
BEGIN:DAYLIGHT
TZOFFSETFROM:-0500
TZOFFSETTO:-0400
TZNAME:EDT
DTSTART:20260308T070000
END:DAYLIGHT
BEGIN:STANDARD
TZOFFSETFROM:-0400
TZOFFSETTO:-0500
TZNAME:EST
DTSTART:20261101T060000
END:STANDARD
BEGIN:DAYLIGHT
TZOFFSETFROM:-0500
TZOFFSETTO:-0400
TZNAME:EDT
DTSTART:20270314T070000
END:DAYLIGHT
BEGIN:STANDARD
TZOFFSETFROM:-0400
TZOFFSETTO:-0500
TZNAME:EST
DTSTART:20271107T060000
END:STANDARD
END:VTIMEZONE
BEGIN:VEVENT
DTSTART;TZID=America/Toronto:20260302T083000
DTEND;TZID=America/Toronto:20260302T100000
DTSTAMP:20260421T113924
CREATED:20260226T202154Z
LAST-MODIFIED:20260226T202154Z
UID:3997-1772440200-1772445600@hol.community
SUMMARY:Drop-In Breakfast- Morrisburg
DESCRIPTION:HOL has a free\, weekly morning drop-in breakfast in Morrisburg every Monday. This breakfast is open to everyone and it includes a free breakfast\, as well as an opportunity to socialize and participate in fun activities. These breakfasts are welcoming and inclusive! \nLocation: Morrisburg Community Hub (22 High Street\, Morrisburg)
URL:https://hol.community/event/drop-in-breakfast-morrisburg-7/
END:VEVENT
BEGIN:VEVENT
DTSTART;TZID=America/Toronto:20260302T110000
DTEND;TZID=America/Toronto:20260302T130000
DTSTAMP:20260421T113924
CREATED:20260207T090446Z
LAST-MODIFIED:20260207T090446Z
UID:3845-1772449200-1772456400@hol.community
SUMMARY:Lunch & Learn
DESCRIPTION:This Lunch & Learn will include an informative self-defense presentation with Vanguard Self Defense Academy. Free lunch is provided\, and everyone is welcome! \nRegistration is required. Please register to afox@houseoflazarus.com or by phone at 613-989-3830. \nLocation: Brinston Dixons Corners Community Christian Reformed Church (4485 Brinston Road\, Brinston)
URL:https://hol.community/event/lunch-learn-4/
END:VEVENT
END:VCALENDAR