BEGIN:VCALENDAR
VERSION:2.0
PRODID:-//House of Lazarus - ECPv6.15.20//NONSGML v1.0//EN
CALSCALE:GREGORIAN
METHOD:PUBLISH
X-WR-CALNAME:House of Lazarus
X-ORIGINAL-URL:https://hol.community
X-WR-CALDESC:Events for House of Lazarus
REFRESH-INTERVAL;VALUE=DURATION:PT1H
X-Robots-Tag:noindex
X-PUBLISHED-TTL:PT1H
BEGIN:VTIMEZONE
TZID:America/Toronto
BEGIN:DAYLIGHT
TZOFFSETFROM:-0500
TZOFFSETTO:-0400
TZNAME:EDT
DTSTART:20250309T070000
END:DAYLIGHT
BEGIN:STANDARD
TZOFFSETFROM:-0400
TZOFFSETTO:-0500
TZNAME:EST
DTSTART:20251102T060000
END:STANDARD
BEGIN:DAYLIGHT
TZOFFSETFROM:-0500
TZOFFSETTO:-0400
TZNAME:EDT
DTSTART:20260308T070000
END:DAYLIGHT
BEGIN:STANDARD
TZOFFSETFROM:-0400
TZOFFSETTO:-0500
TZNAME:EST
DTSTART:20261101T060000
END:STANDARD
BEGIN:DAYLIGHT
TZOFFSETFROM:-0500
TZOFFSETTO:-0400
TZNAME:EDT
DTSTART:20270314T070000
END:DAYLIGHT
BEGIN:STANDARD
TZOFFSETFROM:-0400
TZOFFSETTO:-0500
TZNAME:EST
DTSTART:20271107T060000
END:STANDARD
END:VTIMEZONE
BEGIN:VEVENT
DTSTART;TZID=America/Toronto:20260225T083000
DTEND;TZID=America/Toronto:20260225T100000
DTSTAMP:20260421T095543
CREATED:20260202T175452Z
LAST-MODIFIED:20260207T015439Z
UID:3752-1772008200-1772013600@hol.community
SUMMARY:Drop-In Breakfast- Winchester
DESCRIPTION:HOL has a free\, weekly morning drop-in breakfast in Winchester every Wednesday. This breakfast is open to everyone and it includes a free breakfast\, as well as an opportunity to socialize and participate in fun activities. These breakfasts are welcoming and inclusive! \nLocation: Winchester United Church (519 St Lawrence Street\, Winchester)
URL:https://hol.community/event/drop-in-breakfast-15-62/
LOCATION:Winchester United Church\, 519 St. Lawrence Street\, Winchester\, Ontario\, K0C 2K0\, Canada
END:VEVENT
BEGIN:VEVENT
DTSTART;TZID=America/Toronto:20260225T091500
DTEND;TZID=America/Toronto:20260225T151500
DTSTAMP:20260421T095543
CREATED:20260223T193517Z
LAST-MODIFIED:20260223T193517Z
UID:3961-1772010900-1772032500@hol.community
SUMMARY:Income Tax Clinic- Morrisburg
DESCRIPTION:
URL:https://hol.community/event/income-tax-clinic-morrisburg/
END:VEVENT
END:VCALENDAR