BEGIN:VCALENDAR
VERSION:2.0
PRODID:-//House of Lazarus - ECPv6.15.20//NONSGML v1.0//EN
CALSCALE:GREGORIAN
METHOD:PUBLISH
X-ORIGINAL-URL:https://hol.community
X-WR-CALDESC:Events for House of Lazarus
REFRESH-INTERVAL;VALUE=DURATION:PT1H
X-Robots-Tag:noindex
X-PUBLISHED-TTL:PT1H
BEGIN:VTIMEZONE
TZID:America/Toronto
BEGIN:DAYLIGHT
TZOFFSETFROM:-0500
TZOFFSETTO:-0400
TZNAME:EDT
DTSTART:20250309T070000
END:DAYLIGHT
BEGIN:STANDARD
TZOFFSETFROM:-0400
TZOFFSETTO:-0500
TZNAME:EST
DTSTART:20251102T060000
END:STANDARD
BEGIN:DAYLIGHT
TZOFFSETFROM:-0500
TZOFFSETTO:-0400
TZNAME:EDT
DTSTART:20260308T070000
END:DAYLIGHT
BEGIN:STANDARD
TZOFFSETFROM:-0400
TZOFFSETTO:-0500
TZNAME:EST
DTSTART:20261101T060000
END:STANDARD
BEGIN:DAYLIGHT
TZOFFSETFROM:-0500
TZOFFSETTO:-0400
TZNAME:EDT
DTSTART:20270314T070000
END:DAYLIGHT
BEGIN:STANDARD
TZOFFSETFROM:-0400
TZOFFSETTO:-0500
TZNAME:EST
DTSTART:20271107T060000
END:STANDARD
END:VTIMEZONE
BEGIN:VEVENT
DTSTART;TZID=America/Toronto:20260224T090000
DTEND;TZID=America/Toronto:20260224T160000
DTSTAMP:20260421T093420
CREATED:20260207T085214Z
LAST-MODIFIED:20260207T085214Z
UID:3841-1771923600-1771948800@hol.community
SUMMARY:Kemptville Hub Open
DESCRIPTION:Our Kemptville Community Hub is a safe\, welcoming space where community members can access the help they need. Our hub is a drop-in centre that is open to everyone. \nWe can offer: \n\nForm assistance (help filling in government forms and applications)\nInformation and referrals (we answer questions and connect you to partner agencies)\nFinancial support (access programs and community supports for financial help)\n\nLocation: St. John’s United Church (400 Prescott Street\, Kemptville)
URL:https://hol.community/event/kemptville-hub-open-3/
END:VEVENT
BEGIN:VEVENT
DTSTART;TZID=America/Toronto:20260224T130000
DTEND;TZID=America/Toronto:20260224T150000
DTSTAMP:20260421T093420
CREATED:20260207T084525Z
LAST-MODIFIED:20260207T084525Z
UID:3834-1771938000-1771945200@hol.community
SUMMARY:Coffee with Friends
DESCRIPTION:Come join us for coffee and a snack with new and old friends! \nLocation: Morrisburg Community Hub (22 High Street\, Morrisburg)
URL:https://hol.community/event/coffee-with-friends-34-4/
END:VEVENT
END:VCALENDAR