BEGIN:VCALENDAR
VERSION:2.0
PRODID:-//House of Lazarus - ECPv6.15.20//NONSGML v1.0//EN
CALSCALE:GREGORIAN
METHOD:PUBLISH
X-WR-CALNAME:House of Lazarus
X-ORIGINAL-URL:https://hol.community
X-WR-CALDESC:Events for House of Lazarus
REFRESH-INTERVAL;VALUE=DURATION:PT1H
X-Robots-Tag:noindex
X-PUBLISHED-TTL:PT1H
BEGIN:VTIMEZONE
TZID:America/Toronto
BEGIN:DAYLIGHT
TZOFFSETFROM:-0500
TZOFFSETTO:-0400
TZNAME:EDT
DTSTART:20250309T070000
END:DAYLIGHT
BEGIN:STANDARD
TZOFFSETFROM:-0400
TZOFFSETTO:-0500
TZNAME:EST
DTSTART:20251102T060000
END:STANDARD
BEGIN:DAYLIGHT
TZOFFSETFROM:-0500
TZOFFSETTO:-0400
TZNAME:EDT
DTSTART:20260308T070000
END:DAYLIGHT
BEGIN:STANDARD
TZOFFSETFROM:-0400
TZOFFSETTO:-0500
TZNAME:EST
DTSTART:20261101T060000
END:STANDARD
BEGIN:DAYLIGHT
TZOFFSETFROM:-0500
TZOFFSETTO:-0400
TZNAME:EDT
DTSTART:20270314T070000
END:DAYLIGHT
BEGIN:STANDARD
TZOFFSETFROM:-0400
TZOFFSETTO:-0500
TZNAME:EST
DTSTART:20271107T060000
END:STANDARD
END:VTIMEZONE
BEGIN:VEVENT
DTSTART;VALUE=DATE:20260127
DTEND;VALUE=DATE:20260128
DTSTAMP:20260421T100300
CREATED:20251208T172707Z
LAST-MODIFIED:20251208T172707Z
UID:3172-1769472000-1769558399@hol.community
SUMMARY:North Dundas Green Food Box Pickup
DESCRIPTION:North Dundas Green Food Box Form
URL:https://hol.community/event/north-dundas-green-food-box-pickup/
END:VEVENT
BEGIN:VEVENT
DTSTART;TZID=America/Toronto:20260127T130000
DTEND;TZID=America/Toronto:20260127T150000
DTSTAMP:20260421T100300
CREATED:20260105T152603Z
LAST-MODIFIED:20260105T152603Z
UID:3239-1769518800-1769526000@hol.community
SUMMARY:Coffee with Friends
DESCRIPTION:Come join us for coffee and a snack with new and old friends!
URL:https://hol.community/event/coffee-with-friends-33/
LOCATION:Morrisburg Community Hub\, 22 High Street\, Morrisburg\, Ontario\, K0C1X0\, Canada
END:VEVENT
BEGIN:VEVENT
DTSTART;TZID=America/Toronto:20260127T150000
DTEND;TZID=America/Toronto:20260127T170000
DTSTAMP:20260421T100300
CREATED:20260105T155400Z
LAST-MODIFIED:20260105T155400Z
UID:3247-1769526000-1769533200@hol.community
SUMMARY:Youth Cooking Class
DESCRIPTION:These classes are free for all youth ages 13-24. Our chef Shelley and Justin walk you through a meal from start to finish. Each month you also gain a culinary tool to build / add to a chef kit. The classes run from September to June on the 3rd and 4th Tuesdays of the month\, from 3pm to 5pm. To register\, email Angie at: \nabrown@houseoflazarus.com \nSpaces are limited for each class!
URL:https://hol.community/event/youth-cooking-class-7/
END:VEVENT
END:VCALENDAR