BEGIN:VCALENDAR
VERSION:2.0
PRODID:-//House of Lazarus - ECPv6.15.20//NONSGML v1.0//EN
CALSCALE:GREGORIAN
METHOD:PUBLISH
X-ORIGINAL-URL:https://hol.community
X-WR-CALDESC:Events for House of Lazarus
REFRESH-INTERVAL;VALUE=DURATION:PT1H
X-Robots-Tag:noindex
X-PUBLISHED-TTL:PT1H
BEGIN:VTIMEZONE
TZID:America/Toronto
BEGIN:DAYLIGHT
TZOFFSETFROM:-0500
TZOFFSETTO:-0400
TZNAME:EDT
DTSTART:20250309T070000
END:DAYLIGHT
BEGIN:STANDARD
TZOFFSETFROM:-0400
TZOFFSETTO:-0500
TZNAME:EST
DTSTART:20251102T060000
END:STANDARD
BEGIN:DAYLIGHT
TZOFFSETFROM:-0500
TZOFFSETTO:-0400
TZNAME:EDT
DTSTART:20260308T070000
END:DAYLIGHT
BEGIN:STANDARD
TZOFFSETFROM:-0400
TZOFFSETTO:-0500
TZNAME:EST
DTSTART:20261101T060000
END:STANDARD
BEGIN:DAYLIGHT
TZOFFSETFROM:-0500
TZOFFSETTO:-0400
TZNAME:EDT
DTSTART:20270314T070000
END:DAYLIGHT
BEGIN:STANDARD
TZOFFSETFROM:-0400
TZOFFSETTO:-0500
TZNAME:EST
DTSTART:20271107T060000
END:STANDARD
END:VTIMEZONE
BEGIN:VEVENT
DTSTART;VALUE=DATE:20260113
DTEND;VALUE=DATE:20260114
DTSTAMP:20260421T081510
CREATED:20251208T172813Z
LAST-MODIFIED:20251208T172813Z
UID:3176-1768262400-1768348799@hol.community
SUMMARY:South Dundas Green Food Box Pickup
DESCRIPTION:South Dundas Green Food Box Form
URL:https://hol.community/event/south-dundas-green-food-box-pickup/
END:VEVENT
BEGIN:VEVENT
DTSTART;TZID=America/Toronto:20260113T090000
DTEND;TZID=America/Toronto:20260113T123000
DTSTAMP:20260421T081510
CREATED:20260105T151639Z
LAST-MODIFIED:20260105T151639Z
UID:3215-1768294800-1768307400@hol.community
SUMMARY:Legal Clinic
DESCRIPTION:Roy McMurtry Legal Clinic serves low income individuals\, groups\, and service providers in the counties of Stormont\, Dundas\, and Glengarry. Also available virtually by appointment on other Tuesday mornings.
URL:https://hol.community/event/legal-clinic-24/
END:VEVENT
BEGIN:VEVENT
DTSTART;TZID=America/Toronto:20260113T130000
DTEND;TZID=America/Toronto:20260113T150000
DTSTAMP:20260421T081510
CREATED:20260105T152458Z
LAST-MODIFIED:20260105T152458Z
UID:3235-1768309200-1768316400@hol.community
SUMMARY:Coffee with Friends
DESCRIPTION:Come join us for coffee and a snack with new and old friends!
URL:https://hol.community/event/coffee-with-friends-31/
LOCATION:Morrisburg Community Hub\, 22 High Street\, Morrisburg\, Ontario\, K0C1X0\, Canada
END:VEVENT
END:VCALENDAR