BEGIN:VCALENDAR
VERSION:2.0
PRODID:-//House of Lazarus - ECPv6.15.20//NONSGML v1.0//EN
CALSCALE:GREGORIAN
METHOD:PUBLISH
X-ORIGINAL-URL:https://hol.community
X-WR-CALDESC:Events for House of Lazarus
REFRESH-INTERVAL;VALUE=DURATION:PT1H
X-Robots-Tag:noindex
X-PUBLISHED-TTL:PT1H
BEGIN:VTIMEZONE
TZID:America/Toronto
BEGIN:DAYLIGHT
TZOFFSETFROM:-0500
TZOFFSETTO:-0400
TZNAME:EDT
DTSTART:20240310T070000
END:DAYLIGHT
BEGIN:STANDARD
TZOFFSETFROM:-0400
TZOFFSETTO:-0500
TZNAME:EST
DTSTART:20241103T060000
END:STANDARD
BEGIN:DAYLIGHT
TZOFFSETFROM:-0500
TZOFFSETTO:-0400
TZNAME:EDT
DTSTART:20250309T070000
END:DAYLIGHT
BEGIN:STANDARD
TZOFFSETFROM:-0400
TZOFFSETTO:-0500
TZNAME:EST
DTSTART:20251102T060000
END:STANDARD
BEGIN:DAYLIGHT
TZOFFSETFROM:-0500
TZOFFSETTO:-0400
TZNAME:EDT
DTSTART:20260308T070000
END:DAYLIGHT
BEGIN:STANDARD
TZOFFSETFROM:-0400
TZOFFSETTO:-0500
TZNAME:EST
DTSTART:20261101T060000
END:STANDARD
END:VTIMEZONE
BEGIN:VEVENT
DTSTART;VALUE=DATE:20251125
DTEND;VALUE=DATE:20251126
DTSTAMP:20260421T044026
CREATED:20251029T142741Z
LAST-MODIFIED:20251029T142849Z
UID:3022-1764028800-1764115199@hol.community
SUMMARY:North Dundas Green Food Box Pick Up
DESCRIPTION:North Dundas Green Food Box Form
URL:https://hol.community/event/north-dundas-green-food-box-pick-up-4/
END:VEVENT
BEGIN:VEVENT
DTSTART;TZID=America/Toronto:20251125T090000
DTEND;TZID=America/Toronto:20251125T120000
DTSTAMP:20260421T044026
CREATED:20251029T141644Z
LAST-MODIFIED:20251029T141644Z
UID:3011-1764061200-1764072000@hol.community
SUMMARY:Legal Clinic
DESCRIPTION:Come for any legal help or support you need at the Morrisburg Community Hub- by appointment only. \nContact us to make an appointment- 613-989-3830
URL:https://hol.community/event/legal-clinic-19/
LOCATION:Morrisburg Community Hub\, 22 High Street\, Morrisburg\, Ontario\, K0C1X0\, Canada
END:VEVENT
BEGIN:VEVENT
DTSTART;TZID=America/Toronto:20251125T130000
DTEND;TZID=America/Toronto:20251125T150000
DTSTAMP:20260421T044026
CREATED:20251029T143211Z
LAST-MODIFIED:20251029T143211Z
UID:3030-1764075600-1764082800@hol.community
SUMMARY:Coffee with Friends
DESCRIPTION:Come join us for coffee and a snack with new and old friends!
URL:https://hol.community/event/coffee-with-friends-25/
LOCATION:Morrisburg Community Hub\, 22 High Street\, Morrisburg\, Ontario\, K0C1X0\, Canada
END:VEVENT
BEGIN:VEVENT
DTSTART;TZID=America/Toronto:20251125T150000
DTEND;TZID=America/Toronto:20251125T170000
DTSTAMP:20260421T044026
CREATED:20251029T144557Z
LAST-MODIFIED:20251029T144557Z
UID:3040-1764082800-1764090000@hol.community
SUMMARY:Youth Cooking Class
DESCRIPTION:These classes are free for all youth ages 13-24. Our chef Shelley and Justin walk you through a meal from start to finish. Each month you also gain a culinary tool to build / add to a chef kit. The classes run from September to June on the 3rd and 4th Tuesdays of the month\, from 3pm to 5pm. To register\, email Angie at: \nabrown@houseoflazarus.com \nSpaces are limited for each class!
URL:https://hol.community/event/youth-cooking-class-5/
LOCATION:St John’s United Church\, 400 Prescott St.\, Kemptville\, Ontario\, K0G1J0\, Canada
END:VEVENT
END:VCALENDAR