BEGIN:VCALENDAR
VERSION:2.0
PRODID:-//House of Lazarus - ECPv6.15.20//NONSGML v1.0//EN
CALSCALE:GREGORIAN
METHOD:PUBLISH
X-ORIGINAL-URL:https://hol.community
X-WR-CALDESC:Events for House of Lazarus
REFRESH-INTERVAL;VALUE=DURATION:PT1H
X-Robots-Tag:noindex
X-PUBLISHED-TTL:PT1H
BEGIN:VTIMEZONE
TZID:America/Toronto
BEGIN:DAYLIGHT
TZOFFSETFROM:-0500
TZOFFSETTO:-0400
TZNAME:EDT
DTSTART:20240310T070000
END:DAYLIGHT
BEGIN:STANDARD
TZOFFSETFROM:-0400
TZOFFSETTO:-0500
TZNAME:EST
DTSTART:20241103T060000
END:STANDARD
BEGIN:DAYLIGHT
TZOFFSETFROM:-0500
TZOFFSETTO:-0400
TZNAME:EDT
DTSTART:20250309T070000
END:DAYLIGHT
BEGIN:STANDARD
TZOFFSETFROM:-0400
TZOFFSETTO:-0500
TZNAME:EST
DTSTART:20251102T060000
END:STANDARD
BEGIN:DAYLIGHT
TZOFFSETFROM:-0500
TZOFFSETTO:-0400
TZNAME:EDT
DTSTART:20260308T070000
END:DAYLIGHT
BEGIN:STANDARD
TZOFFSETFROM:-0400
TZOFFSETTO:-0500
TZNAME:EST
DTSTART:20261101T060000
END:STANDARD
END:VTIMEZONE
BEGIN:VEVENT
DTSTART;TZID=America/Toronto:20250919T090000
DTEND;TZID=America/Toronto:20250919T153000
DTSTAMP:20260420T044054
CREATED:20250904T193428Z
LAST-MODIFIED:20250904T193428Z
UID:2772-1758272400-1758295800@hol.community
SUMMARY:United Way
DESCRIPTION:Assistance with Ontario Electricity Support Program application.
URL:https://hol.community/event/united-way/
LOCATION:Morrisburg Community Hub\, 22 High Street\, Morrisburg\, Ontario\, K0C1X0\, Canada
ORGANIZER;CN="House of Lazarus":MAILTO:cashby@houseoflazarus.com
END:VEVENT
BEGIN:VEVENT
DTSTART;TZID=America/Toronto:20250919T110000
DTEND;TZID=America/Toronto:20250919T140000
DTSTAMP:20260420T044054
CREATED:20250904T195245Z
LAST-MODIFIED:20250904T195245Z
UID:2774-1758279600-1758290400@hol.community
SUMMARY:Community Kitchen
DESCRIPTION:Monthly Community Kitchen with Shelley. Cook together and take home a meal and dessert! \nRegistration required. Please register to: mharbers@houseoflazarus.com or 613-989-3830
URL:https://hol.community/event/community-kitchen-3/
LOCATION:Morrisburg Community Hub\, 22 High Street\, Morrisburg\, Ontario\, K0C1X0\, Canada
ORGANIZER;CN="House of Lazarus":MAILTO:cashby@houseoflazarus.com
END:VEVENT
BEGIN:VEVENT
DTSTART;TZID=America/Toronto:20250919T130000
DTEND;TZID=America/Toronto:20250919T150000
DTSTAMP:20260420T044054
CREATED:20250904T200046Z
LAST-MODIFIED:20250904T200046Z
UID:2784-1758286800-1758294000@hol.community
SUMMARY:Coffee with Friends
DESCRIPTION:Come join us for coffee and a snack with new and old friends!
URL:https://hol.community/event/coffee-with-friends-14/
LOCATION:Morrisburg Community Hub\, 22 High Street\, Morrisburg\, Ontario\, K0C1X0\, Canada
ORGANIZER;CN="House of Lazarus":MAILTO:cashby@houseoflazarus.com
END:VEVENT
END:VCALENDAR